BEGIN:VCALENDAR
VERSION:2.0
PRODID:-//eventon.com NONSGML v1.0//EN
CALSCALE:GREGORIAN
METHOD:PUBLISH
BEGIN:VEVENT
UID:69e74ac4c87e9
DTSTAMP:20260421T100036Z
DTSTART:20200702
DTEND:20200703
LOCATION:Radava Szlovákia
SUMMARY:Nyári tábor
DESCRIPTION:Nyári tábor\nhttps://sportkempo.hu/events/nyari-tabor/
URL:https://sportkempo.hu/events/nyari-tabor/
END:VEVENT
END:VCALENDAR